BEGIN:VCALENDAR
VERSION:2.0
PRODID:-//freshstarthome.org//NONSGML kigkonsult.se iCalcreator 2.30.10//
CALSCALE:GREGORIAN
METHOD:PUBLISH
UID:4698d772-1882-4505-b48d-c34f3b682624
X-WR-CALDESC:THANK YOU to the Unitarian Church for providing supper for the
  Fresh Start residents. This caring church provides supper the 1st Sunday 
 of every month.  \n\nIf you'd like information about providing a supper\, 
 please contact Audrey at Fresh Start.
X-WR-RELCALID:6123599658a60212f05faffeb3859ada
X-WR-TIMEZONE:America/Chicago
BEGIN:VTIMEZONE
TZID:America/Chicago
BEGIN:STANDARD
TZNAME:CST
DTSTART:20241103T020000
TZOFFSETFROM:-0500
TZOFFSETTO:-0600
RDATE:20251102T020000
END:STANDARD
BEGIN:DAYLIGHT
TZNAME:CDT
DTSTART:20250309T020000
TZOFFSETFROM:-0600
TZOFFSETTO:-0500
RDATE:20260308T020000
END:DAYLIGHT
END:VTIMEZONE
BEGIN:VEVENT
UID:87d1c34a-f0ea-4fd9-9e0e-d1768d5739bb
DTSTAMP:20260424T154110Z
DESCRIPTION:THANK YOU to the Unitarian Church for providing supper for the 
 Fresh Start residents. This caring church provides supper the 1st Sunday o
 f every month.  \n\nIf you'd like information about providing a supper\, p
 lease contact Audrey at Fresh Start.
DTSTART;TZID=America/Chicago:20250413T180000
DTEND;TZID=America/Chicago:20250413T190000
LOCATION:Fresh Start
SUMMARY:Unitarian Church Provides Shelter Supper
END:VEVENT
END:VCALENDAR
