BEGIN:VCALENDAR
VERSION:2.0
PRODID:-//freshstarthome.org//NONSGML kigkonsult.se iCalcreator 2.30.10//
CALSCALE:GREGORIAN
METHOD:PUBLISH
UID:b59c076f-d394-4290-8685-94e3205ef17d
X-WR-CALDESC:The Fresh Start Board of Directors meet monthly\, on the 3rd T
 uesday from 5:30- 7pm. The location varies but is usually Eastridge Presby
 terian Church.
X-WR-RELCALID:77aecaccefd84bc7074632479131bf95
X-WR-TIMEZONE:America/Chicago
BEGIN:VTIMEZONE
TZID:America/Chicago
BEGIN:STANDARD
TZNAME:CST
DTSTART:20241103T020000
TZOFFSETFROM:-0500
TZOFFSETTO:-0600
RDATE:20251102T020000
RDATE:20261101T020000
END:STANDARD
BEGIN:DAYLIGHT
TZNAME:CDT
DTSTART:20250309T020000
TZOFFSETFROM:-0600
TZOFFSETTO:-0500
RDATE:20260308T020000
RDATE:20270314T020000
END:DAYLIGHT
END:VTIMEZONE
BEGIN:VEVENT
UID:780f9847-bf21-4045-afe1-0f71a351323c
DTSTAMP:20260424T061217Z
DESCRIPTION:The Fresh Start Board of Directors meet monthly\, on the 3rd Tu
 esday from 5:30- 7pm. The location varies but is usually Eastridge Presbyt
 erian Church.
DTSTART;TZID=America/Chicago:20251021T173000
DTEND;TZID=America/Chicago:20251021T190000
LOCATION:Locations varies
SUMMARY:Fresh Start Board of Directors meeting
END:VEVENT
END:VCALENDAR
