BEGIN:VCALENDAR
VERSION:2.0
PRODID:-//freshstarthome.org//NONSGML kigkonsult.se iCalcreator 2.30.10//
CALSCALE:GREGORIAN
METHOD:PUBLISH
UID:73b6f07f-4bd3-460b-9fd0-5d8450914255
X-WR-CALDESC:THANK YOU to the Unitarian Church for providing supper for the
  Fresh Start residents. This caring church provides supper the 1st Sunday 
 of every month.  \n\nIf you'd like information about providing a supper\, 
 please contact Audrey at Fresh Start.
X-WR-RELCALID:5da8c2185ad8a495a04abe973356177d
X-WR-TIMEZONE:America/Chicago
BEGIN:VTIMEZONE
TZID:America/Chicago
BEGIN:STANDARD
TZNAME:CST
DTSTART:20251102T020000
TZOFFSETFROM:-0500
TZOFFSETTO:-0600
RDATE:20261101T020000
END:STANDARD
BEGIN:DAYLIGHT
TZNAME:CDT
DTSTART:20250309T020000
TZOFFSETFROM:-0600
TZOFFSETTO:-0500
RDATE:20260308T020000
RDATE:20270314T020000
END:DAYLIGHT
END:VTIMEZONE
BEGIN:VEVENT
UID:714e1898-7f91-4ff8-b9bd-4c68b1f18412
DTSTAMP:20260423T221721Z
DESCRIPTION:THANK YOU to the Unitarian Church for providing supper for the 
 Fresh Start residents. This caring church provides supper the 1st Sunday o
 f every month.  \n\nIf you'd like information about providing a supper\, p
 lease contact Audrey at Fresh Start.
DTSTART;TZID=America/Chicago:20260308T180000
DTEND;TZID=America/Chicago:20260308T190000
LOCATION:Fresh Start
SUMMARY:Unitarian Church Provides Shelter Supper
END:VEVENT
END:VCALENDAR
