BEGIN:VCALENDAR
VERSION:2.0
PRODID:-//freshstarthome.org//NONSGML kigkonsult.se iCalcreator 2.30.10//
CALSCALE:GREGORIAN
METHOD:PUBLISH
UID:1ddcc488-949a-4a2b-8eb8-8e8ec6ddd532
X-WR-CALDESC:The Fresh Start Board of Directors meet monthly\, on the 3rd T
 uesday from 5:30- 7pm. The location varies but is usually Eastridge Presby
 terian Church.
X-WR-RELCALID:d0b47e4a7bebda17b1713a8c5d2381b1
X-WR-TIMEZONE:America/Chicago
BEGIN:VTIMEZONE
TZID:America/Chicago
BEGIN:STANDARD
TZNAME:CST
DTSTART:20251102T020000
TZOFFSETFROM:-0500
TZOFFSETTO:-0600
RDATE:20261101T020000
RDATE:20271107T020000
END:STANDARD
BEGIN:DAYLIGHT
TZNAME:CDT
DTSTART:20260308T020000
TZOFFSETFROM:-0600
TZOFFSETTO:-0500
RDATE:20270314T020000
END:DAYLIGHT
END:VTIMEZONE
BEGIN:VEVENT
UID:533e901c-4378-4f81-b5c9-d1744d1d07ba
DTSTAMP:20260423T235535Z
DESCRIPTION:The Fresh Start Board of Directors meet monthly\, on the 3rd Tu
 esday from 5:30- 7pm. The location varies but is usually Eastridge Presbyt
 erian Church.
DTSTART;TZID=America/Chicago:20260616T173000
DTEND;TZID=America/Chicago:20260616T190000
LOCATION:Locations varies
SUMMARY:Fresh Start Board of Directors meeting
END:VEVENT
END:VCALENDAR
