BEGIN:VCALENDAR
VERSION:2.0
PRODID:-//freshstarthome.org//NONSGML kigkonsult.se iCalcreator 2.30.10//
CALSCALE:GREGORIAN
METHOD:PUBLISH
UID:c65dba3d-ebdb-4b89-8ab4-0f75fc578666
X-WR-CALDESC:The Fresh Start Board of Directors meet monthly\, on the 3rd T
 uesday from 5:30- 7pm. The location varies but is usually Eastridge Presby
 terian Church.
X-WR-RELCALID:a0167121ac43df8a2217574a8bc0fb21
X-WR-TIMEZONE:America/Chicago
BEGIN:VTIMEZONE
TZID:America/Chicago
BEGIN:STANDARD
TZNAME:CST
DTSTART:20251102T020000
TZOFFSETFROM:-0500
TZOFFSETTO:-0600
RDATE:20261101T020000
RDATE:20271107T020000
END:STANDARD
BEGIN:DAYLIGHT
TZNAME:CDT
DTSTART:20260308T020000
TZOFFSETFROM:-0600
TZOFFSETTO:-0500
RDATE:20270314T020000
END:DAYLIGHT
END:VTIMEZONE
BEGIN:VEVENT
UID:9146cb75-3f52-4efd-a3a4-fbb32bbb2787
DTSTAMP:20260424T012127Z
DESCRIPTION:The Fresh Start Board of Directors meet monthly\, on the 3rd Tu
 esday from 5:30- 7pm. The location varies but is usually Eastridge Presbyt
 erian Church.
DTSTART;TZID=America/Chicago:20260721T173000
DTEND;TZID=America/Chicago:20260721T190000
LOCATION:Locations varies
SUMMARY:Fresh Start Board of Directors meeting
END:VEVENT
END:VCALENDAR
