BEGIN:VCALENDAR
VERSION:2.0
PRODID:-//freshstarthome.org//NONSGML kigkonsult.se iCalcreator 2.30.10//
CALSCALE:GREGORIAN
METHOD:PUBLISH
UID:1677ad28-ad28-4968-86f5-236c39e019f3
X-WR-CALDESC:The Fresh Start Board of Directors meet monthly\, on the 3rd T
 uesday from 5:30- 7pm. The location varies but is usually Eastridge Presby
 terian Church.
X-WR-RELCALID:b46105a1e0894810dc80a580c9f01b7f
X-WR-TIMEZONE:America/Chicago
BEGIN:VTIMEZONE
TZID:America/Chicago
BEGIN:STANDARD
TZNAME:CST
DTSTART:20261101T020000
TZOFFSETFROM:-0500
TZOFFSETTO:-0600
RDATE:20271107T020000
END:STANDARD
BEGIN:DAYLIGHT
TZNAME:CDT
DTSTART:20260308T020000
TZOFFSETFROM:-0600
TZOFFSETTO:-0500
RDATE:20270314T020000
RDATE:20280312T020000
END:DAYLIGHT
END:VTIMEZONE
BEGIN:VEVENT
UID:79462ce7-a455-419e-8dbd-9b8dc8f1d509
DTSTAMP:20260424T074856Z
DESCRIPTION:The Fresh Start Board of Directors meet monthly\, on the 3rd Tu
 esday from 5:30- 7pm. The location varies but is usually Eastridge Presbyt
 erian Church.
DTSTART;TZID=America/Chicago:20261117T173000
DTEND;TZID=America/Chicago:20261117T190000
LOCATION:Locations varies
SUMMARY:Fresh Start Board of Directors meeting
END:VEVENT
END:VCALENDAR
