BEGIN:VCALENDAR
VERSION:2.0
PRODID:-//freshstarthome.org//NONSGML kigkonsult.se iCalcreator 2.30.10//
CALSCALE:GREGORIAN
METHOD:PUBLISH
UID:d734f583-c8bb-466c-9f24-ee20ed28384e
X-WR-CALDESC:The Fresh Start Board of Directors meet monthly\, on the 3rd T
 uesday from 5:30- 7pm. The location varies but is usually Eastridge Presby
 terian Church.
X-WR-RELCALID:655dfe7b4146eb0ae8d733bb19870833
X-WR-TIMEZONE:America/Chicago
BEGIN:VTIMEZONE
TZID:America/Chicago
BEGIN:STANDARD
TZNAME:CST
DTSTART:20261101T020000
TZOFFSETFROM:-0500
TZOFFSETTO:-0600
RDATE:20271107T020000
RDATE:20281105T020000
END:STANDARD
BEGIN:DAYLIGHT
TZNAME:CDT
DTSTART:20270314T020000
TZOFFSETFROM:-0600
TZOFFSETTO:-0500
RDATE:20280312T020000
RDATE:20290311T020000
END:DAYLIGHT
END:VTIMEZONE
BEGIN:VEVENT
UID:327c40f6-b2e8-4cd1-9573-e2f1cddb80d4
DTSTAMP:20260425T011025Z
DESCRIPTION:The Fresh Start Board of Directors meet monthly\, on the 3rd Tu
 esday from 5:30- 7pm. The location varies but is usually Eastridge Presbyt
 erian Church.
DTSTART;TZID=America/Chicago:20271019T173000
DTEND;TZID=America/Chicago:20271019T190000
LOCATION:Locations varies
SUMMARY:Fresh Start Board of Directors meeting
END:VEVENT
END:VCALENDAR
