BEGIN:VCALENDAR
VERSION:2.0
PRODID:-//freshstarthome.org//NONSGML kigkonsult.se iCalcreator 2.30.10//
CALSCALE:GREGORIAN
METHOD:PUBLISH
UID:896ec9df-89e0-46e2-9812-989b00ebdecb
X-WR-CALDESC:THANK YOU to the Unitarian Church for providing supper for the
  Fresh Start residents. This caring church provides supper the 1st Sunday 
 of every month.  \n\nIf you'd like information about providing a supper\, 
 please contact Audrey at Fresh Start.
X-WR-RELCALID:a037fd3dc5869a4b7a0832221b5e97f9
X-WR-TIMEZONE:America/Chicago
BEGIN:VTIMEZONE
TZID:America/Chicago
BEGIN:STANDARD
TZNAME:CST
DTSTART:20271107T020000
TZOFFSETFROM:-0500
TZOFFSETTO:-0600
RDATE:20281105T020000
RDATE:20291104T020000
END:STANDARD
BEGIN:DAYLIGHT
TZNAME:CDT
DTSTART:20280312T020000
TZOFFSETFROM:-0600
TZOFFSETTO:-0500
RDATE:20290311T020000
END:DAYLIGHT
END:VTIMEZONE
BEGIN:VEVENT
UID:83d83ecf-f584-4822-8364-9ce124d6a004
DTSTAMP:20260425T131712Z
DESCRIPTION:THANK YOU to the Unitarian Church for providing supper for the 
 Fresh Start residents. This caring church provides supper the 1st Sunday o
 f every month.  \n\nIf you'd like information about providing a supper\, p
 lease contact Audrey at Fresh Start.
DTSTART;TZID=America/Chicago:20280611T180000
DTEND;TZID=America/Chicago:20280611T190000
LOCATION:Fresh Start
SUMMARY:Unitarian Church Provides Shelter Supper
END:VEVENT
END:VCALENDAR
